BEGIN:VCALENDAR
VERSION:2.0
PRODID:-//Eric M Simons - ECPv6.15.20//NONSGML v1.0//EN
CALSCALE:GREGORIAN
METHOD:PUBLISH
X-ORIGINAL-URL:https://ericmsimons.com
X-WR-CALDESC:Events for Eric M Simons
REFRESH-INTERVAL;VALUE=DURATION:PT1H
X-Robots-Tag:noindex
X-PUBLISHED-TTL:PT1H
BEGIN:VTIMEZONE
TZID:UTC
BEGIN:STANDARD
TZOFFSETFROM:+0000
TZOFFSETTO:+0000
TZNAME:UTC
DTSTART:20230101T000000
END:STANDARD
END:VTIMEZONE
BEGIN:VEVENT
DTSTART;TZID=UTC:20240928T200000
DTEND;TZID=UTC:20240928T220000
DTSTAMP:20260421T193612
CREATED:20240902T213418Z
LAST-MODIFIED:20240902T224506Z
UID:2336-1727553600-1727560800@ericmsimons.com
SUMMARY:Boom Boom Improv
DESCRIPTION:
URL:https://ericmsimons.com/event/boom-boom-improv/
LOCATION:Patina Art Center\, 324 Cleveland Ave NW\, Canton\, OH\, 44702\, United States
CATEGORIES:Canton First Friday
ATTACH;FMTTYPE=image/jpeg:https://ericmsimons.com/wp-content/uploads/2023/06/boom-boom-2.jpg
END:VEVENT
BEGIN:VEVENT
DTSTART;TZID=UTC:20240906T200000
DTEND;TZID=UTC:20240906T220000
DTSTAMP:20260421T193612
CREATED:20240902T212941Z
LAST-MODIFIED:20240902T224917Z
UID:2333-1725652800-1725660000@ericmsimons.com
SUMMARY:Canton Free First Friday Comedy Show
DESCRIPTION:
URL:https://ericmsimons.com/event/canton-free-first-friday-comedy-show/
LOCATION:Patina Art Center\, 324 Cleveland Ave NW\, Canton\, OH\, 44702\, United States
CATEGORIES:Canton First Friday
ATTACH;FMTTYPE=image/jpeg:https://ericmsimons.com/wp-content/uploads/2023/06/first-friday.jpg
END:VEVENT
END:VCALENDAR