BEGIN:VCALENDAR
VERSION:2.0
PRODID:-//Eric M Simons - ECPv6.15.20//NONSGML v1.0//EN
CALSCALE:GREGORIAN
METHOD:PUBLISH
X-ORIGINAL-URL:https://ericmsimons.com
X-WR-CALDESC:Events for Eric M Simons
REFRESH-INTERVAL;VALUE=DURATION:PT1H
X-Robots-Tag:noindex
X-PUBLISHED-TTL:PT1H
BEGIN:VTIMEZONE
TZID:UTC
BEGIN:STANDARD
TZOFFSETFROM:+0000
TZOFFSETTO:+0000
TZNAME:UTC
DTSTART:20240101T000000
END:STANDARD
END:VTIMEZONE
BEGIN:VEVENT
DTSTART;TZID=UTC:20250927T200000
DTEND;TZID=UTC:20250927T220000
DTSTAMP:20260421T133408
CREATED:20240902T225541Z
LAST-MODIFIED:20240902T225541Z
UID:2491-1759003200-1759010400@ericmsimons.com
SUMMARY:Boom Boom Improv
DESCRIPTION:
URL:https://ericmsimons.com/event/boom-boom-improv-13/
CATEGORIES:Canton First Friday
END:VEVENT
BEGIN:VEVENT
DTSTART;TZID=UTC:20250925T193000
DTEND;TZID=UTC:20250925T220000
DTSTAMP:20260421T133408
CREATED:20240902T224916Z
LAST-MODIFIED:20240902T224916Z
UID:2465-1758828600-1758837600@ericmsimons.com
SUMMARY:Krackpots
DESCRIPTION:
URL:https://ericmsimons.com/event/krackpots-56/
LOCATION:Krackpots\, 14 Lincoln Way W\, Massillon\, OH\, 44647\, United States
CATEGORIES:Open Mic
END:VEVENT
BEGIN:VEVENT
DTSTART;TZID=UTC:20250924T210000
DTEND;TZID=UTC:20250924T220000
DTSTAMP:20260421T133408
CREATED:20240902T224719Z
LAST-MODIFIED:20240902T224719Z
UID:2410-1758747600-1758751200@ericmsimons.com
SUMMARY:Live at Arcadia
DESCRIPTION:Live at Arcadia is an after-hours comedy showcase hosted by Canton Comedy Boom and friends. Each week comedian Eric M Simons works hard to book an eclectic cast of comedic talents from all over northeast Ohio and beyond!Arcadia Grille Downtown is a long-standing establishment with a historic ambiance and a welcoming\, attentive staff. Kyle and Ashley will keep the kitchen and bar open during the show. The menu features classic Italian dishes including soup\, salads\, subs\, and pastas in addition to mouthwatering chops\, steaks\, and salmon. Arcadia offers a full-service bar with cold beers on tap and a creative cocktail menu.\nStop by for the laughs and enjoy a great meal\, reasonably priced drinks\, and a friendly staff. This intimate venue creates a warm atmosphere for our guests to enjoy a one-of-a-kind dinner and show experience right here in Canton every Wednesday night!
URL:https://ericmsimons.com/event/live-at-arcadia-56/
LOCATION:Arcadia Grille\, 321 Court Ave NW Canton OH 44702\, Canton\, OH\, 44702\, United States
CATEGORIES:Live at Arcadia
END:VEVENT
BEGIN:VEVENT
DTSTART;TZID=UTC:20250918T193000
DTEND;TZID=UTC:20250918T220000
DTSTAMP:20260421T133408
CREATED:20240902T224916Z
LAST-MODIFIED:20240902T224916Z
UID:2464-1758223800-1758232800@ericmsimons.com
SUMMARY:Krackpots
DESCRIPTION:
URL:https://ericmsimons.com/event/krackpots-55/
LOCATION:Krackpots\, 14 Lincoln Way W\, Massillon\, OH\, 44647\, United States
CATEGORIES:Open Mic
END:VEVENT
BEGIN:VEVENT
DTSTART;TZID=UTC:20250917T210000
DTEND;TZID=UTC:20250917T220000
DTSTAMP:20260421T133408
CREATED:20240902T224719Z
LAST-MODIFIED:20240902T224719Z
UID:2409-1758142800-1758146400@ericmsimons.com
SUMMARY:Live at Arcadia
DESCRIPTION:Live at Arcadia is an after-hours comedy showcase hosted by Canton Comedy Boom and friends. Each week comedian Eric M Simons works hard to book an eclectic cast of comedic talents from all over northeast Ohio and beyond!Arcadia Grille Downtown is a long-standing establishment with a historic ambiance and a welcoming\, attentive staff. Kyle and Ashley will keep the kitchen and bar open during the show. The menu features classic Italian dishes including soup\, salads\, subs\, and pastas in addition to mouthwatering chops\, steaks\, and salmon. Arcadia offers a full-service bar with cold beers on tap and a creative cocktail menu.\nStop by for the laughs and enjoy a great meal\, reasonably priced drinks\, and a friendly staff. This intimate venue creates a warm atmosphere for our guests to enjoy a one-of-a-kind dinner and show experience right here in Canton every Wednesday night!
URL:https://ericmsimons.com/event/live-at-arcadia-55/
LOCATION:Arcadia Grille\, 321 Court Ave NW Canton OH 44702\, Canton\, OH\, 44702\, United States
CATEGORIES:Live at Arcadia
END:VEVENT
BEGIN:VEVENT
DTSTART;TZID=UTC:20250911T193000
DTEND;TZID=UTC:20250911T220000
DTSTAMP:20260421T133408
CREATED:20240902T224916Z
LAST-MODIFIED:20240902T224916Z
UID:2463-1757619000-1757628000@ericmsimons.com
SUMMARY:Krackpots
DESCRIPTION:
URL:https://ericmsimons.com/event/krackpots-54/
LOCATION:Krackpots\, 14 Lincoln Way W\, Massillon\, OH\, 44647\, United States
CATEGORIES:Open Mic
END:VEVENT
BEGIN:VEVENT
DTSTART;TZID=UTC:20250910T210000
DTEND;TZID=UTC:20250910T220000
DTSTAMP:20260421T133408
CREATED:20240902T224714Z
LAST-MODIFIED:20240902T224714Z
UID:2408-1757538000-1757541600@ericmsimons.com
SUMMARY:Live at Arcadia
DESCRIPTION:Live at Arcadia is an after-hours comedy showcase hosted by Canton Comedy Boom and friends. Each week comedian Eric M Simons works hard to book an eclectic cast of comedic talents from all over northeast Ohio and beyond!Arcadia Grille Downtown is a long-standing establishment with a historic ambiance and a welcoming\, attentive staff. Kyle and Ashley will keep the kitchen and bar open during the show. The menu features classic Italian dishes including soup\, salads\, subs\, and pastas in addition to mouthwatering chops\, steaks\, and salmon. Arcadia offers a full-service bar with cold beers on tap and a creative cocktail menu.\nStop by for the laughs and enjoy a great meal\, reasonably priced drinks\, and a friendly staff. This intimate venue creates a warm atmosphere for our guests to enjoy a one-of-a-kind dinner and show experience right here in Canton every Wednesday night!
URL:https://ericmsimons.com/event/live-at-arcadia-54/
LOCATION:Arcadia Grille\, 321 Court Ave NW Canton OH 44702\, Canton\, OH\, 44702\, United States
CATEGORIES:Live at Arcadia
END:VEVENT
BEGIN:VEVENT
DTSTART;TZID=UTC:20250905T200000
DTEND;TZID=UTC:20250905T220000
DTSTAMP:20260421T133408
CREATED:20240902T225139Z
LAST-MODIFIED:20240902T225139Z
UID:2479-1757102400-1757109600@ericmsimons.com
SUMMARY:Canton Free First Friday Comedy Show
DESCRIPTION:
URL:https://ericmsimons.com/event/canton-free-first-friday-comedy-show-14/
CATEGORIES:Canton First Friday
END:VEVENT
BEGIN:VEVENT
DTSTART;TZID=UTC:20250904T193000
DTEND;TZID=UTC:20250904T220000
DTSTAMP:20260421T133408
CREATED:20240902T224901Z
LAST-MODIFIED:20240902T224901Z
UID:2462-1757014200-1757023200@ericmsimons.com
SUMMARY:Krackpots
DESCRIPTION:
URL:https://ericmsimons.com/event/krackpots-53/
LOCATION:Krackpots\, 14 Lincoln Way W\, Massillon\, OH\, 44647\, United States
CATEGORIES:Open Mic
END:VEVENT
BEGIN:VEVENT
DTSTART;TZID=UTC:20250903T210000
DTEND;TZID=UTC:20250903T220000
DTSTAMP:20260421T133408
CREATED:20240902T224714Z
LAST-MODIFIED:20240902T224714Z
UID:2407-1756933200-1756936800@ericmsimons.com
SUMMARY:Live at Arcadia
DESCRIPTION:Live at Arcadia is an after-hours comedy showcase hosted by Canton Comedy Boom and friends. Each week comedian Eric M Simons works hard to book an eclectic cast of comedic talents from all over northeast Ohio and beyond!Arcadia Grille Downtown is a long-standing establishment with a historic ambiance and a welcoming\, attentive staff. Kyle and Ashley will keep the kitchen and bar open during the show. The menu features classic Italian dishes including soup\, salads\, subs\, and pastas in addition to mouthwatering chops\, steaks\, and salmon. Arcadia offers a full-service bar with cold beers on tap and a creative cocktail menu.\nStop by for the laughs and enjoy a great meal\, reasonably priced drinks\, and a friendly staff. This intimate venue creates a warm atmosphere for our guests to enjoy a one-of-a-kind dinner and show experience right here in Canton every Wednesday night!
URL:https://ericmsimons.com/event/live-at-arcadia-53/
LOCATION:Arcadia Grille\, 321 Court Ave NW Canton OH 44702\, Canton\, OH\, 44702\, United States
CATEGORIES:Live at Arcadia
END:VEVENT
BEGIN:VEVENT
DTSTART;TZID=UTC:20250830T200000
DTEND;TZID=UTC:20250830T220000
DTSTAMP:20260421T133408
CREATED:20240902T225541Z
LAST-MODIFIED:20240902T225541Z
UID:2490-1756584000-1756591200@ericmsimons.com
SUMMARY:Boom Boom Improv
DESCRIPTION:
URL:https://ericmsimons.com/event/boom-boom-improv-12/
CATEGORIES:Canton First Friday
END:VEVENT
BEGIN:VEVENT
DTSTART;TZID=UTC:20250828T193000
DTEND;TZID=UTC:20250828T220000
DTSTAMP:20260421T133408
CREATED:20240902T224901Z
LAST-MODIFIED:20240902T224901Z
UID:2461-1756409400-1756418400@ericmsimons.com
SUMMARY:Krackpots
DESCRIPTION:
URL:https://ericmsimons.com/event/krackpots-52/
LOCATION:Krackpots\, 14 Lincoln Way W\, Massillon\, OH\, 44647\, United States
CATEGORIES:Open Mic
END:VEVENT
BEGIN:VEVENT
DTSTART;TZID=UTC:20250827T210000
DTEND;TZID=UTC:20250827T220000
DTSTAMP:20260421T133408
CREATED:20240902T224714Z
LAST-MODIFIED:20240902T224714Z
UID:2406-1756328400-1756332000@ericmsimons.com
SUMMARY:Live at Arcadia
DESCRIPTION:Live at Arcadia is an after-hours comedy showcase hosted by Canton Comedy Boom and friends. Each week comedian Eric M Simons works hard to book an eclectic cast of comedic talents from all over northeast Ohio and beyond!Arcadia Grille Downtown is a long-standing establishment with a historic ambiance and a welcoming\, attentive staff. Kyle and Ashley will keep the kitchen and bar open during the show. The menu features classic Italian dishes including soup\, salads\, subs\, and pastas in addition to mouthwatering chops\, steaks\, and salmon. Arcadia offers a full-service bar with cold beers on tap and a creative cocktail menu.\nStop by for the laughs and enjoy a great meal\, reasonably priced drinks\, and a friendly staff. This intimate venue creates a warm atmosphere for our guests to enjoy a one-of-a-kind dinner and show experience right here in Canton every Wednesday night!
URL:https://ericmsimons.com/event/live-at-arcadia-52/
LOCATION:Arcadia Grille\, 321 Court Ave NW Canton OH 44702\, Canton\, OH\, 44702\, United States
CATEGORIES:Live at Arcadia
END:VEVENT
BEGIN:VEVENT
DTSTART;TZID=UTC:20250821T193000
DTEND;TZID=UTC:20250821T220000
DTSTAMP:20260421T133408
CREATED:20240902T224901Z
LAST-MODIFIED:20240902T224901Z
UID:2460-1755804600-1755813600@ericmsimons.com
SUMMARY:Krackpots
DESCRIPTION:
URL:https://ericmsimons.com/event/krackpots-51/
LOCATION:Krackpots\, 14 Lincoln Way W\, Massillon\, OH\, 44647\, United States
CATEGORIES:Open Mic
END:VEVENT
BEGIN:VEVENT
DTSTART;TZID=UTC:20250820T210000
DTEND;TZID=UTC:20250820T220000
DTSTAMP:20260421T133408
CREATED:20240902T224714Z
LAST-MODIFIED:20240902T224714Z
UID:2405-1755723600-1755727200@ericmsimons.com
SUMMARY:Live at Arcadia
DESCRIPTION:Live at Arcadia is an after-hours comedy showcase hosted by Canton Comedy Boom and friends. Each week comedian Eric M Simons works hard to book an eclectic cast of comedic talents from all over northeast Ohio and beyond!Arcadia Grille Downtown is a long-standing establishment with a historic ambiance and a welcoming\, attentive staff. Kyle and Ashley will keep the kitchen and bar open during the show. The menu features classic Italian dishes including soup\, salads\, subs\, and pastas in addition to mouthwatering chops\, steaks\, and salmon. Arcadia offers a full-service bar with cold beers on tap and a creative cocktail menu.\nStop by for the laughs and enjoy a great meal\, reasonably priced drinks\, and a friendly staff. This intimate venue creates a warm atmosphere for our guests to enjoy a one-of-a-kind dinner and show experience right here in Canton every Wednesday night!
URL:https://ericmsimons.com/event/live-at-arcadia-51/
LOCATION:Arcadia Grille\, 321 Court Ave NW Canton OH 44702\, Canton\, OH\, 44702\, United States
CATEGORIES:Live at Arcadia
END:VEVENT
BEGIN:VEVENT
DTSTART;TZID=UTC:20250814T193000
DTEND;TZID=UTC:20250814T220000
DTSTAMP:20260421T133408
CREATED:20240902T224901Z
LAST-MODIFIED:20240902T224901Z
UID:2459-1755199800-1755208800@ericmsimons.com
SUMMARY:Krackpots
DESCRIPTION:
URL:https://ericmsimons.com/event/krackpots-50/
LOCATION:Krackpots\, 14 Lincoln Way W\, Massillon\, OH\, 44647\, United States
CATEGORIES:Open Mic
END:VEVENT
BEGIN:VEVENT
DTSTART;TZID=UTC:20250813T210000
DTEND;TZID=UTC:20250813T220000
DTSTAMP:20260421T133408
CREATED:20240902T224714Z
LAST-MODIFIED:20240902T224714Z
UID:2404-1755118800-1755122400@ericmsimons.com
SUMMARY:Live at Arcadia
DESCRIPTION:Live at Arcadia is an after-hours comedy showcase hosted by Canton Comedy Boom and friends. Each week comedian Eric M Simons works hard to book an eclectic cast of comedic talents from all over northeast Ohio and beyond!Arcadia Grille Downtown is a long-standing establishment with a historic ambiance and a welcoming\, attentive staff. Kyle and Ashley will keep the kitchen and bar open during the show. The menu features classic Italian dishes including soup\, salads\, subs\, and pastas in addition to mouthwatering chops\, steaks\, and salmon. Arcadia offers a full-service bar with cold beers on tap and a creative cocktail menu.\nStop by for the laughs and enjoy a great meal\, reasonably priced drinks\, and a friendly staff. This intimate venue creates a warm atmosphere for our guests to enjoy a one-of-a-kind dinner and show experience right here in Canton every Wednesday night!
URL:https://ericmsimons.com/event/live-at-arcadia-50/
LOCATION:Arcadia Grille\, 321 Court Ave NW Canton OH 44702\, Canton\, OH\, 44702\, United States
CATEGORIES:Live at Arcadia
END:VEVENT
BEGIN:VEVENT
DTSTART;TZID=UTC:20250807T193000
DTEND;TZID=UTC:20250807T220000
DTSTAMP:20260421T133408
CREATED:20240902T224901Z
LAST-MODIFIED:20240902T224901Z
UID:2458-1754595000-1754604000@ericmsimons.com
SUMMARY:Krackpots
DESCRIPTION:
URL:https://ericmsimons.com/event/krackpots-49/
LOCATION:Krackpots\, 14 Lincoln Way W\, Massillon\, OH\, 44647\, United States
CATEGORIES:Open Mic
END:VEVENT
BEGIN:VEVENT
DTSTART;TZID=UTC:20250806T210000
DTEND;TZID=UTC:20250806T220000
DTSTAMP:20260421T133408
CREATED:20240902T224709Z
LAST-MODIFIED:20240902T224709Z
UID:2403-1754514000-1754517600@ericmsimons.com
SUMMARY:Live at Arcadia
DESCRIPTION:Live at Arcadia is an after-hours comedy showcase hosted by Canton Comedy Boom and friends. Each week comedian Eric M Simons works hard to book an eclectic cast of comedic talents from all over northeast Ohio and beyond!Arcadia Grille Downtown is a long-standing establishment with a historic ambiance and a welcoming\, attentive staff. Kyle and Ashley will keep the kitchen and bar open during the show. The menu features classic Italian dishes including soup\, salads\, subs\, and pastas in addition to mouthwatering chops\, steaks\, and salmon. Arcadia offers a full-service bar with cold beers on tap and a creative cocktail menu.\nStop by for the laughs and enjoy a great meal\, reasonably priced drinks\, and a friendly staff. This intimate venue creates a warm atmosphere for our guests to enjoy a one-of-a-kind dinner and show experience right here in Canton every Wednesday night!
URL:https://ericmsimons.com/event/live-at-arcadia-49/
LOCATION:Arcadia Grille\, 321 Court Ave NW Canton OH 44702\, Canton\, OH\, 44702\, United States
CATEGORIES:Live at Arcadia
END:VEVENT
BEGIN:VEVENT
DTSTART;TZID=UTC:20250801T200000
DTEND;TZID=UTC:20250801T220000
DTSTAMP:20260421T133408
CREATED:20240902T224938Z
LAST-MODIFIED:20240902T224938Z
UID:2478-1754078400-1754085600@ericmsimons.com
SUMMARY:Canton Free First Friday Comedy Show
DESCRIPTION:
URL:https://ericmsimons.com/event/canton-free-first-friday-comedy-show-13/
CATEGORIES:Canton First Friday
END:VEVENT
BEGIN:VEVENT
DTSTART;TZID=UTC:20250731T193000
DTEND;TZID=UTC:20250731T220000
DTSTAMP:20260421T133408
CREATED:20240902T224856Z
LAST-MODIFIED:20240902T224856Z
UID:2457-1753990200-1753999200@ericmsimons.com
SUMMARY:Krackpots
DESCRIPTION:
URL:https://ericmsimons.com/event/krackpots-48/
LOCATION:Krackpots\, 14 Lincoln Way W\, Massillon\, OH\, 44647\, United States
CATEGORIES:Open Mic
END:VEVENT
BEGIN:VEVENT
DTSTART;TZID=UTC:20250730T210000
DTEND;TZID=UTC:20250730T220000
DTSTAMP:20260421T133408
CREATED:20240902T224709Z
LAST-MODIFIED:20240902T224709Z
UID:2402-1753909200-1753912800@ericmsimons.com
SUMMARY:Live at Arcadia
DESCRIPTION:Live at Arcadia is an after-hours comedy showcase hosted by Canton Comedy Boom and friends. Each week comedian Eric M Simons works hard to book an eclectic cast of comedic talents from all over northeast Ohio and beyond!Arcadia Grille Downtown is a long-standing establishment with a historic ambiance and a welcoming\, attentive staff. Kyle and Ashley will keep the kitchen and bar open during the show. The menu features classic Italian dishes including soup\, salads\, subs\, and pastas in addition to mouthwatering chops\, steaks\, and salmon. Arcadia offers a full-service bar with cold beers on tap and a creative cocktail menu.\nStop by for the laughs and enjoy a great meal\, reasonably priced drinks\, and a friendly staff. This intimate venue creates a warm atmosphere for our guests to enjoy a one-of-a-kind dinner and show experience right here in Canton every Wednesday night!
URL:https://ericmsimons.com/event/live-at-arcadia-48/
LOCATION:Arcadia Grille\, 321 Court Ave NW Canton OH 44702\, Canton\, OH\, 44702\, United States
CATEGORIES:Live at Arcadia
END:VEVENT
BEGIN:VEVENT
DTSTART;TZID=UTC:20250726T200000
DTEND;TZID=UTC:20250726T220000
DTSTAMP:20260421T133408
CREATED:20240902T225541Z
LAST-MODIFIED:20240902T225541Z
UID:2489-1753560000-1753567200@ericmsimons.com
SUMMARY:Boom Boom Improv
DESCRIPTION:
URL:https://ericmsimons.com/event/boom-boom-improv-11/
CATEGORIES:Canton First Friday
END:VEVENT
BEGIN:VEVENT
DTSTART;TZID=UTC:20250724T193000
DTEND;TZID=UTC:20250724T220000
DTSTAMP:20260421T133408
CREATED:20240902T224856Z
LAST-MODIFIED:20240902T224856Z
UID:2456-1753385400-1753394400@ericmsimons.com
SUMMARY:Krackpots
DESCRIPTION:
URL:https://ericmsimons.com/event/krackpots-47/
LOCATION:Krackpots\, 14 Lincoln Way W\, Massillon\, OH\, 44647\, United States
CATEGORIES:Open Mic
END:VEVENT
BEGIN:VEVENT
DTSTART;TZID=UTC:20250723T210000
DTEND;TZID=UTC:20250723T220000
DTSTAMP:20260421T133408
CREATED:20240902T224709Z
LAST-MODIFIED:20240902T224709Z
UID:2401-1753304400-1753308000@ericmsimons.com
SUMMARY:Live at Arcadia
DESCRIPTION:Live at Arcadia is an after-hours comedy showcase hosted by Canton Comedy Boom and friends. Each week comedian Eric M Simons works hard to book an eclectic cast of comedic talents from all over northeast Ohio and beyond!Arcadia Grille Downtown is a long-standing establishment with a historic ambiance and a welcoming\, attentive staff. Kyle and Ashley will keep the kitchen and bar open during the show. The menu features classic Italian dishes including soup\, salads\, subs\, and pastas in addition to mouthwatering chops\, steaks\, and salmon. Arcadia offers a full-service bar with cold beers on tap and a creative cocktail menu.\nStop by for the laughs and enjoy a great meal\, reasonably priced drinks\, and a friendly staff. This intimate venue creates a warm atmosphere for our guests to enjoy a one-of-a-kind dinner and show experience right here in Canton every Wednesday night!
URL:https://ericmsimons.com/event/live-at-arcadia-47/
LOCATION:Arcadia Grille\, 321 Court Ave NW Canton OH 44702\, Canton\, OH\, 44702\, United States
CATEGORIES:Live at Arcadia
END:VEVENT
BEGIN:VEVENT
DTSTART;TZID=UTC:20250717T193000
DTEND;TZID=UTC:20250717T220000
DTSTAMP:20260421T133408
CREATED:20240902T224856Z
LAST-MODIFIED:20240902T224856Z
UID:2455-1752780600-1752789600@ericmsimons.com
SUMMARY:Krackpots
DESCRIPTION:
URL:https://ericmsimons.com/event/krackpots-46/
LOCATION:Krackpots\, 14 Lincoln Way W\, Massillon\, OH\, 44647\, United States
CATEGORIES:Open Mic
END:VEVENT
BEGIN:VEVENT
DTSTART;TZID=UTC:20250716T210000
DTEND;TZID=UTC:20250716T220000
DTSTAMP:20260421T133408
CREATED:20240902T224709Z
LAST-MODIFIED:20240902T224709Z
UID:2400-1752699600-1752703200@ericmsimons.com
SUMMARY:Live at Arcadia
DESCRIPTION:Live at Arcadia is an after-hours comedy showcase hosted by Canton Comedy Boom and friends. Each week comedian Eric M Simons works hard to book an eclectic cast of comedic talents from all over northeast Ohio and beyond!Arcadia Grille Downtown is a long-standing establishment with a historic ambiance and a welcoming\, attentive staff. Kyle and Ashley will keep the kitchen and bar open during the show. The menu features classic Italian dishes including soup\, salads\, subs\, and pastas in addition to mouthwatering chops\, steaks\, and salmon. Arcadia offers a full-service bar with cold beers on tap and a creative cocktail menu.\nStop by for the laughs and enjoy a great meal\, reasonably priced drinks\, and a friendly staff. This intimate venue creates a warm atmosphere for our guests to enjoy a one-of-a-kind dinner and show experience right here in Canton every Wednesday night!
URL:https://ericmsimons.com/event/live-at-arcadia-46/
LOCATION:Arcadia Grille\, 321 Court Ave NW Canton OH 44702\, Canton\, OH\, 44702\, United States
CATEGORIES:Live at Arcadia
END:VEVENT
BEGIN:VEVENT
DTSTART;TZID=UTC:20250710T193000
DTEND;TZID=UTC:20250710T220000
DTSTAMP:20260421T133408
CREATED:20240902T224855Z
LAST-MODIFIED:20240902T224855Z
UID:2454-1752175800-1752184800@ericmsimons.com
SUMMARY:Krackpots
DESCRIPTION:
URL:https://ericmsimons.com/event/krackpots-45/
LOCATION:Krackpots\, 14 Lincoln Way W\, Massillon\, OH\, 44647\, United States
CATEGORIES:Open Mic
END:VEVENT
BEGIN:VEVENT
DTSTART;TZID=UTC:20250709T210000
DTEND;TZID=UTC:20250709T220000
DTSTAMP:20260421T133408
CREATED:20240902T224709Z
LAST-MODIFIED:20240902T224709Z
UID:2399-1752094800-1752098400@ericmsimons.com
SUMMARY:Live at Arcadia
DESCRIPTION:Live at Arcadia is an after-hours comedy showcase hosted by Canton Comedy Boom and friends. Each week comedian Eric M Simons works hard to book an eclectic cast of comedic talents from all over northeast Ohio and beyond!Arcadia Grille Downtown is a long-standing establishment with a historic ambiance and a welcoming\, attentive staff. Kyle and Ashley will keep the kitchen and bar open during the show. The menu features classic Italian dishes including soup\, salads\, subs\, and pastas in addition to mouthwatering chops\, steaks\, and salmon. Arcadia offers a full-service bar with cold beers on tap and a creative cocktail menu.\nStop by for the laughs and enjoy a great meal\, reasonably priced drinks\, and a friendly staff. This intimate venue creates a warm atmosphere for our guests to enjoy a one-of-a-kind dinner and show experience right here in Canton every Wednesday night!
URL:https://ericmsimons.com/event/live-at-arcadia-45/
LOCATION:Arcadia Grille\, 321 Court Ave NW Canton OH 44702\, Canton\, OH\, 44702\, United States
CATEGORIES:Live at Arcadia
END:VEVENT
BEGIN:VEVENT
DTSTART;TZID=UTC:20250704T200000
DTEND;TZID=UTC:20250704T220000
DTSTAMP:20260421T133408
CREATED:20240902T224938Z
LAST-MODIFIED:20240902T224938Z
UID:2477-1751659200-1751666400@ericmsimons.com
SUMMARY:Canton Free First Friday Comedy Show
DESCRIPTION:
URL:https://ericmsimons.com/event/canton-free-first-friday-comedy-show-12/
CATEGORIES:Canton First Friday
END:VEVENT
END:VCALENDAR