BEGIN:VCALENDAR
VERSION:2.0
PRODID:-//Eric M Simons - ECPv6.15.20//NONSGML v1.0//EN
CALSCALE:GREGORIAN
METHOD:PUBLISH
X-WR-CALNAME:Eric M Simons
X-ORIGINAL-URL:https://ericmsimons.com
X-WR-CALDESC:Events for Eric M Simons
REFRESH-INTERVAL;VALUE=DURATION:PT1H
X-Robots-Tag:noindex
X-PUBLISHED-TTL:PT1H
BEGIN:VTIMEZONE
TZID:UTC
BEGIN:STANDARD
TZOFFSETFROM:+0000
TZOFFSETTO:+0000
TZNAME:UTC
DTSTART:20230101T000000
END:STANDARD
END:VTIMEZONE
BEGIN:VEVENT
DTSTART;TZID=UTC:20241127T210000
DTEND;TZID=UTC:20241127T220000
DTSTAMP:20260422T063156
CREATED:20240902T224538Z
LAST-MODIFIED:20240902T224538Z
UID:2366-1732741200-1732744800@ericmsimons.com
SUMMARY:Live at Arcadia
DESCRIPTION:Live at Arcadia is an after-hours comedy showcase hosted by Canton Comedy Boom and friends. Each week comedian Eric M Simons works hard to book an eclectic cast of comedic talents from all over northeast Ohio and beyond!Arcadia Grille Downtown is a long-standing establishment with a historic ambiance and a welcoming\, attentive staff. Kyle and Ashley will keep the kitchen and bar open during the show. The menu features classic Italian dishes including soup\, salads\, subs\, and pastas in addition to mouthwatering chops\, steaks\, and salmon. Arcadia offers a full-service bar with cold beers on tap and a creative cocktail menu.\nStop by for the laughs and enjoy a great meal\, reasonably priced drinks\, and a friendly staff. This intimate venue creates a warm atmosphere for our guests to enjoy a one-of-a-kind dinner and show experience right here in Canton every Wednesday night!
URL:https://ericmsimons.com/event/live-at-arcadia-13/
LOCATION:Arcadia Grille\, 321 Court Ave NW Canton OH 44702\, Canton\, OH\, 44702\, United States
CATEGORIES:Live at Arcadia
END:VEVENT
BEGIN:VEVENT
DTSTART;TZID=UTC:20241121T193000
DTEND;TZID=UTC:20241121T220000
DTSTAMP:20260422T063156
CREATED:20240902T224753Z
LAST-MODIFIED:20240902T224753Z
UID:2421-1732217400-1732226400@ericmsimons.com
SUMMARY:Krackpots
DESCRIPTION:
URL:https://ericmsimons.com/event/krackpots-12/
LOCATION:Krackpots\, 14 Lincoln Way W\, Massillon\, OH\, 44647\, United States
CATEGORIES:Open Mic
END:VEVENT
BEGIN:VEVENT
DTSTART;TZID=UTC:20241120T210000
DTEND;TZID=UTC:20241120T220000
DTSTAMP:20260422T063156
CREATED:20240902T224538Z
LAST-MODIFIED:20240902T224538Z
UID:2365-1732136400-1732140000@ericmsimons.com
SUMMARY:Live at Arcadia
DESCRIPTION:Live at Arcadia is an after-hours comedy showcase hosted by Canton Comedy Boom and friends. Each week comedian Eric M Simons works hard to book an eclectic cast of comedic talents from all over northeast Ohio and beyond!Arcadia Grille Downtown is a long-standing establishment with a historic ambiance and a welcoming\, attentive staff. Kyle and Ashley will keep the kitchen and bar open during the show. The menu features classic Italian dishes including soup\, salads\, subs\, and pastas in addition to mouthwatering chops\, steaks\, and salmon. Arcadia offers a full-service bar with cold beers on tap and a creative cocktail menu.\nStop by for the laughs and enjoy a great meal\, reasonably priced drinks\, and a friendly staff. This intimate venue creates a warm atmosphere for our guests to enjoy a one-of-a-kind dinner and show experience right here in Canton every Wednesday night!
URL:https://ericmsimons.com/event/live-at-arcadia-12/
LOCATION:Arcadia Grille\, 321 Court Ave NW Canton OH 44702\, Canton\, OH\, 44702\, United States
CATEGORIES:Live at Arcadia
END:VEVENT
BEGIN:VEVENT
DTSTART;TZID=UTC:20241114T193000
DTEND;TZID=UTC:20241114T220000
DTSTAMP:20260422T063156
CREATED:20240902T224753Z
LAST-MODIFIED:20240902T224753Z
UID:2420-1731612600-1731621600@ericmsimons.com
SUMMARY:Krackpots
DESCRIPTION:
URL:https://ericmsimons.com/event/krackpots-11/
LOCATION:Krackpots\, 14 Lincoln Way W\, Massillon\, OH\, 44647\, United States
CATEGORIES:Open Mic
END:VEVENT
BEGIN:VEVENT
DTSTART;TZID=UTC:20241113T210000
DTEND;TZID=UTC:20241113T220000
DTSTAMP:20260422T063156
CREATED:20240902T224538Z
LAST-MODIFIED:20240902T224538Z
UID:2364-1731531600-1731535200@ericmsimons.com
SUMMARY:Live at Arcadia
DESCRIPTION:Live at Arcadia is an after-hours comedy showcase hosted by Canton Comedy Boom and friends. Each week comedian Eric M Simons works hard to book an eclectic cast of comedic talents from all over northeast Ohio and beyond!Arcadia Grille Downtown is a long-standing establishment with a historic ambiance and a welcoming\, attentive staff. Kyle and Ashley will keep the kitchen and bar open during the show. The menu features classic Italian dishes including soup\, salads\, subs\, and pastas in addition to mouthwatering chops\, steaks\, and salmon. Arcadia offers a full-service bar with cold beers on tap and a creative cocktail menu.\nStop by for the laughs and enjoy a great meal\, reasonably priced drinks\, and a friendly staff. This intimate venue creates a warm atmosphere for our guests to enjoy a one-of-a-kind dinner and show experience right here in Canton every Wednesday night!
URL:https://ericmsimons.com/event/live-at-arcadia-11/
LOCATION:Arcadia Grille\, 321 Court Ave NW Canton OH 44702\, Canton\, OH\, 44702\, United States
CATEGORIES:Live at Arcadia
END:VEVENT
BEGIN:VEVENT
DTSTART;TZID=UTC:20241107T193000
DTEND;TZID=UTC:20241107T220000
DTSTAMP:20260422T063156
CREATED:20240902T224753Z
LAST-MODIFIED:20240902T224753Z
UID:2419-1731007800-1731016800@ericmsimons.com
SUMMARY:Krackpots
DESCRIPTION:
URL:https://ericmsimons.com/event/krackpots-10/
LOCATION:Krackpots\, 14 Lincoln Way W\, Massillon\, OH\, 44647\, United States
CATEGORIES:Open Mic
END:VEVENT
BEGIN:VEVENT
DTSTART;TZID=UTC:20241106T210000
DTEND;TZID=UTC:20241106T220000
DTSTAMP:20260422T063156
CREATED:20240902T224538Z
LAST-MODIFIED:20240902T224538Z
UID:2363-1730926800-1730930400@ericmsimons.com
SUMMARY:Live at Arcadia
DESCRIPTION:Live at Arcadia is an after-hours comedy showcase hosted by Canton Comedy Boom and friends. Each week comedian Eric M Simons works hard to book an eclectic cast of comedic talents from all over northeast Ohio and beyond!Arcadia Grille Downtown is a long-standing establishment with a historic ambiance and a welcoming\, attentive staff. Kyle and Ashley will keep the kitchen and bar open during the show. The menu features classic Italian dishes including soup\, salads\, subs\, and pastas in addition to mouthwatering chops\, steaks\, and salmon. Arcadia offers a full-service bar with cold beers on tap and a creative cocktail menu.\nStop by for the laughs and enjoy a great meal\, reasonably priced drinks\, and a friendly staff. This intimate venue creates a warm atmosphere for our guests to enjoy a one-of-a-kind dinner and show experience right here in Canton every Wednesday night!
URL:https://ericmsimons.com/event/live-at-arcadia-10/
LOCATION:Arcadia Grille\, 321 Court Ave NW Canton OH 44702\, Canton\, OH\, 44702\, United States
CATEGORIES:Live at Arcadia
END:VEVENT
BEGIN:VEVENT
DTSTART;TZID=UTC:20241101T200000
DTEND;TZID=UTC:20241101T220000
DTSTAMP:20260422T063156
CREATED:20240902T224922Z
LAST-MODIFIED:20240902T224922Z
UID:2469-1730491200-1730498400@ericmsimons.com
SUMMARY:Canton Free First Friday Comedy Show
DESCRIPTION:
URL:https://ericmsimons.com/event/canton-free-first-friday-comedy-show-4/
LOCATION:OH
CATEGORIES:Canton First Friday
END:VEVENT
BEGIN:VEVENT
DTSTART;TZID=UTC:20241031T200000
DTEND;TZID=UTC:20241031T220000
DTSTAMP:20260422T063156
CREATED:20240902T213749Z
LAST-MODIFIED:20240902T221145Z
UID:2340-1730404800-1730412000@ericmsimons.com
SUMMARY:CCB Presents: A Halloween Comedy Variety Show
DESCRIPTION:
URL:https://ericmsimons.com/event/ccb-presents-a-halloween-comedy-variety-show/
LOCATION:Patina Art Center\, 324 Cleveland Ave NW\, Canton\, OH\, 44702\, United States
CATEGORIES:Improv,Standup Showcase
ATTACH;FMTTYPE=image/jpeg:https://ericmsimons.com/wp-content/uploads/2023/06/halloween.jpg
END:VEVENT
BEGIN:VEVENT
DTSTART;TZID=UTC:20241031T193000
DTEND;TZID=UTC:20241031T220000
DTSTAMP:20260422T063156
CREATED:20240902T224753Z
LAST-MODIFIED:20240902T224753Z
UID:2418-1730403000-1730412000@ericmsimons.com
SUMMARY:Krackpots
DESCRIPTION:
URL:https://ericmsimons.com/event/krackpots-9/
LOCATION:Krackpots\, 14 Lincoln Way W\, Massillon\, OH\, 44647\, United States
CATEGORIES:Open Mic
END:VEVENT
BEGIN:VEVENT
DTSTART;TZID=UTC:20241030T210000
DTEND;TZID=UTC:20241030T220000
DTSTAMP:20260422T063156
CREATED:20240902T224523Z
LAST-MODIFIED:20240902T224523Z
UID:2362-1730322000-1730325600@ericmsimons.com
SUMMARY:Live at Arcadia
DESCRIPTION:Live at Arcadia is an after-hours comedy showcase hosted by Canton Comedy Boom and friends. Each week comedian Eric M Simons works hard to book an eclectic cast of comedic talents from all over northeast Ohio and beyond!Arcadia Grille Downtown is a long-standing establishment with a historic ambiance and a welcoming\, attentive staff. Kyle and Ashley will keep the kitchen and bar open during the show. The menu features classic Italian dishes including soup\, salads\, subs\, and pastas in addition to mouthwatering chops\, steaks\, and salmon. Arcadia offers a full-service bar with cold beers on tap and a creative cocktail menu.\nStop by for the laughs and enjoy a great meal\, reasonably priced drinks\, and a friendly staff. This intimate venue creates a warm atmosphere for our guests to enjoy a one-of-a-kind dinner and show experience right here in Canton every Wednesday night!
URL:https://ericmsimons.com/event/live-at-arcadia-9/
LOCATION:Arcadia Grille\, 321 Court Ave NW Canton OH 44702\, Canton\, OH\, 44702\, United States
CATEGORIES:Live at Arcadia
END:VEVENT
BEGIN:VEVENT
DTSTART;TZID=UTC:20241026T200000
DTEND;TZID=UTC:20241026T220000
DTSTAMP:20260422T063156
CREATED:20240902T225139Z
LAST-MODIFIED:20240902T225139Z
UID:2480-1729972800-1729980000@ericmsimons.com
SUMMARY:Boom Boom Improv
DESCRIPTION:
URL:https://ericmsimons.com/event/boom-boom-improv-2/
LOCATION:OH
CATEGORIES:Canton First Friday
END:VEVENT
BEGIN:VEVENT
DTSTART;TZID=UTC:20241024T193000
DTEND;TZID=UTC:20241024T220000
DTSTAMP:20260422T063156
CREATED:20240902T224737Z
LAST-MODIFIED:20240902T224737Z
UID:2417-1729798200-1729807200@ericmsimons.com
SUMMARY:Krackpots
DESCRIPTION:
URL:https://ericmsimons.com/event/krackpots-8/
LOCATION:Krackpots\, 14 Lincoln Way W\, Massillon\, OH\, 44647\, United States
CATEGORIES:Open Mic
END:VEVENT
BEGIN:VEVENT
DTSTART;TZID=UTC:20241023T210000
DTEND;TZID=UTC:20241023T220000
DTSTAMP:20260422T063156
CREATED:20240902T224523Z
LAST-MODIFIED:20240902T224523Z
UID:2361-1729717200-1729720800@ericmsimons.com
SUMMARY:Live at Arcadia
DESCRIPTION:Live at Arcadia is an after-hours comedy showcase hosted by Canton Comedy Boom and friends. Each week comedian Eric M Simons works hard to book an eclectic cast of comedic talents from all over northeast Ohio and beyond!Arcadia Grille Downtown is a long-standing establishment with a historic ambiance and a welcoming\, attentive staff. Kyle and Ashley will keep the kitchen and bar open during the show. The menu features classic Italian dishes including soup\, salads\, subs\, and pastas in addition to mouthwatering chops\, steaks\, and salmon. Arcadia offers a full-service bar with cold beers on tap and a creative cocktail menu.\nStop by for the laughs and enjoy a great meal\, reasonably priced drinks\, and a friendly staff. This intimate venue creates a warm atmosphere for our guests to enjoy a one-of-a-kind dinner and show experience right here in Canton every Wednesday night!
URL:https://ericmsimons.com/event/live-at-arcadia-8/
LOCATION:Arcadia Grille\, 321 Court Ave NW Canton OH 44702\, Canton\, OH\, 44702\, United States
CATEGORIES:Live at Arcadia
END:VEVENT
BEGIN:VEVENT
DTSTART;TZID=UTC:20241017T193000
DTEND;TZID=UTC:20241017T220000
DTSTAMP:20260422T063157
CREATED:20240902T224737Z
LAST-MODIFIED:20240902T224737Z
UID:2416-1729193400-1729202400@ericmsimons.com
SUMMARY:Krackpots
DESCRIPTION:
URL:https://ericmsimons.com/event/krackpots-7/
LOCATION:Krackpots\, 14 Lincoln Way W\, Massillon\, OH\, 44647\, United States
CATEGORIES:Open Mic
END:VEVENT
BEGIN:VEVENT
DTSTART;TZID=UTC:20241016T210000
DTEND;TZID=UTC:20241016T220000
DTSTAMP:20260422T063157
CREATED:20240902T224523Z
LAST-MODIFIED:20240902T224523Z
UID:2360-1729112400-1729116000@ericmsimons.com
SUMMARY:Live at Arcadia
DESCRIPTION:Live at Arcadia is an after-hours comedy showcase hosted by Canton Comedy Boom and friends. Each week comedian Eric M Simons works hard to book an eclectic cast of comedic talents from all over northeast Ohio and beyond!Arcadia Grille Downtown is a long-standing establishment with a historic ambiance and a welcoming\, attentive staff. Kyle and Ashley will keep the kitchen and bar open during the show. The menu features classic Italian dishes including soup\, salads\, subs\, and pastas in addition to mouthwatering chops\, steaks\, and salmon. Arcadia offers a full-service bar with cold beers on tap and a creative cocktail menu.\nStop by for the laughs and enjoy a great meal\, reasonably priced drinks\, and a friendly staff. This intimate venue creates a warm atmosphere for our guests to enjoy a one-of-a-kind dinner and show experience right here in Canton every Wednesday night!
URL:https://ericmsimons.com/event/live-at-arcadia-7/
LOCATION:Arcadia Grille\, 321 Court Ave NW Canton OH 44702\, Canton\, OH\, 44702\, United States
CATEGORIES:Live at Arcadia
END:VEVENT
BEGIN:VEVENT
DTSTART;TZID=UTC:20241010T193000
DTEND;TZID=UTC:20241010T220000
DTSTAMP:20260422T063157
CREATED:20240902T224737Z
LAST-MODIFIED:20240902T224737Z
UID:2415-1728588600-1728597600@ericmsimons.com
SUMMARY:Krackpots
DESCRIPTION:
URL:https://ericmsimons.com/event/krackpots-6/
LOCATION:Krackpots\, 14 Lincoln Way W\, Massillon\, OH\, 44647\, United States
CATEGORIES:Open Mic
END:VEVENT
BEGIN:VEVENT
DTSTART;TZID=UTC:20241009T210000
DTEND;TZID=UTC:20241009T220000
DTSTAMP:20260422T063157
CREATED:20240902T224523Z
LAST-MODIFIED:20240902T224523Z
UID:2359-1728507600-1728511200@ericmsimons.com
SUMMARY:Live at Arcadia
DESCRIPTION:Live at Arcadia is an after-hours comedy showcase hosted by Canton Comedy Boom and friends. Each week comedian Eric M Simons works hard to book an eclectic cast of comedic talents from all over northeast Ohio and beyond!Arcadia Grille Downtown is a long-standing establishment with a historic ambiance and a welcoming\, attentive staff. Kyle and Ashley will keep the kitchen and bar open during the show. The menu features classic Italian dishes including soup\, salads\, subs\, and pastas in addition to mouthwatering chops\, steaks\, and salmon. Arcadia offers a full-service bar with cold beers on tap and a creative cocktail menu.\nStop by for the laughs and enjoy a great meal\, reasonably priced drinks\, and a friendly staff. This intimate venue creates a warm atmosphere for our guests to enjoy a one-of-a-kind dinner and show experience right here in Canton every Wednesday night!
URL:https://ericmsimons.com/event/live-at-arcadia-6/
LOCATION:Arcadia Grille\, 321 Court Ave NW Canton OH 44702\, Canton\, OH\, 44702\, United States
CATEGORIES:Live at Arcadia
END:VEVENT
BEGIN:VEVENT
DTSTART;TZID=UTC:20241004T200000
DTEND;TZID=UTC:20241004T220000
DTSTAMP:20260422T063157
CREATED:20240902T224917Z
LAST-MODIFIED:20240902T224917Z
UID:2467-1728072000-1728079200@ericmsimons.com
SUMMARY:Canton Free First Friday Comedy Show
DESCRIPTION:
URL:https://ericmsimons.com/event/canton-free-first-friday-comedy-show-3/
LOCATION:OH
CATEGORIES:Canton First Friday
END:VEVENT
BEGIN:VEVENT
DTSTART;TZID=UTC:20241003T193000
DTEND;TZID=UTC:20241003T220000
DTSTAMP:20260422T063157
CREATED:20240902T224737Z
LAST-MODIFIED:20240902T224737Z
UID:2414-1727983800-1727992800@ericmsimons.com
SUMMARY:Krackpots
DESCRIPTION:
URL:https://ericmsimons.com/event/krackpots-5/
LOCATION:Krackpots\, 14 Lincoln Way W\, Massillon\, OH\, 44647\, United States
CATEGORIES:Open Mic
END:VEVENT
BEGIN:VEVENT
DTSTART;TZID=UTC:20241002T210000
DTEND;TZID=UTC:20241002T220000
DTSTAMP:20260422T063157
CREATED:20240902T224523Z
LAST-MODIFIED:20240902T224523Z
UID:2358-1727902800-1727906400@ericmsimons.com
SUMMARY:Live at Arcadia
DESCRIPTION:Live at Arcadia is an after-hours comedy showcase hosted by Canton Comedy Boom and friends. Each week comedian Eric M Simons works hard to book an eclectic cast of comedic talents from all over northeast Ohio and beyond!Arcadia Grille Downtown is a long-standing establishment with a historic ambiance and a welcoming\, attentive staff. Kyle and Ashley will keep the kitchen and bar open during the show. The menu features classic Italian dishes including soup\, salads\, subs\, and pastas in addition to mouthwatering chops\, steaks\, and salmon. Arcadia offers a full-service bar with cold beers on tap and a creative cocktail menu.\nStop by for the laughs and enjoy a great meal\, reasonably priced drinks\, and a friendly staff. This intimate venue creates a warm atmosphere for our guests to enjoy a one-of-a-kind dinner and show experience right here in Canton every Wednesday night!
URL:https://ericmsimons.com/event/live-at-arcadia-5/
LOCATION:Arcadia Grille\, 321 Court Ave NW Canton OH 44702\, Canton\, OH\, 44702\, United States
CATEGORIES:Live at Arcadia
END:VEVENT
BEGIN:VEVENT
DTSTART;TZID=UTC:20240928T200000
DTEND;TZID=UTC:20240928T220000
DTSTAMP:20260422T063157
CREATED:20240902T213418Z
LAST-MODIFIED:20240902T224506Z
UID:2336-1727553600-1727560800@ericmsimons.com
SUMMARY:Boom Boom Improv
DESCRIPTION:
URL:https://ericmsimons.com/event/boom-boom-improv/
LOCATION:Patina Art Center\, 324 Cleveland Ave NW\, Canton\, OH\, 44702\, United States
CATEGORIES:Canton First Friday
ATTACH;FMTTYPE=image/jpeg:https://ericmsimons.com/wp-content/uploads/2023/06/boom-boom-2.jpg
END:VEVENT
BEGIN:VEVENT
DTSTART;TZID=UTC:20240926T193000
DTEND;TZID=UTC:20240926T220000
DTSTAMP:20260422T063157
CREATED:20240902T224737Z
LAST-MODIFIED:20240902T224737Z
UID:2413-1727379000-1727388000@ericmsimons.com
SUMMARY:Krackpots
DESCRIPTION:
URL:https://ericmsimons.com/event/krackpots-4/
LOCATION:Krackpots\, 14 Lincoln Way W\, Massillon\, OH\, 44647\, United States
CATEGORIES:Open Mic
END:VEVENT
BEGIN:VEVENT
DTSTART;TZID=UTC:20240925T210000
DTEND;TZID=UTC:20240925T220000
DTSTAMP:20260422T063157
CREATED:20240902T224510Z
LAST-MODIFIED:20240902T224510Z
UID:2357-1727298000-1727301600@ericmsimons.com
SUMMARY:Live at Arcadia
DESCRIPTION:Live at Arcadia is an after-hours comedy showcase hosted by Canton Comedy Boom and friends. Each week comedian Eric M Simons works hard to book an eclectic cast of comedic talents from all over northeast Ohio and beyond!Arcadia Grille Downtown is a long-standing establishment with a historic ambiance and a welcoming\, attentive staff. Kyle and Ashley will keep the kitchen and bar open during the show. The menu features classic Italian dishes including soup\, salads\, subs\, and pastas in addition to mouthwatering chops\, steaks\, and salmon. Arcadia offers a full-service bar with cold beers on tap and a creative cocktail menu.\nStop by for the laughs and enjoy a great meal\, reasonably priced drinks\, and a friendly staff. This intimate venue creates a warm atmosphere for our guests to enjoy a one-of-a-kind dinner and show experience right here in Canton every Wednesday night!
URL:https://ericmsimons.com/event/live-at-arcadia-4/
LOCATION:Arcadia Grille\, 321 Court Ave NW Canton OH 44702\, Canton\, OH\, 44702\, United States
CATEGORIES:Live at Arcadia
END:VEVENT
BEGIN:VEVENT
DTSTART;TZID=UTC:20240919T193000
DTEND;TZID=UTC:20240919T220000
DTSTAMP:20260422T063157
CREATED:20240902T224720Z
LAST-MODIFIED:20240902T224720Z
UID:2412-1726774200-1726783200@ericmsimons.com
SUMMARY:Krackpots
DESCRIPTION:
URL:https://ericmsimons.com/event/krackpots-3/
LOCATION:Krackpots\, 14 Lincoln Way W\, Massillon\, OH\, 44647\, United States
CATEGORIES:Open Mic
END:VEVENT
BEGIN:VEVENT
DTSTART;TZID=UTC:20240918T210000
DTEND;TZID=UTC:20240918T220000
DTSTAMP:20260422T063157
CREATED:20240902T224506Z
LAST-MODIFIED:20240902T224510Z
UID:2350-1726693200-1726696800@ericmsimons.com
SUMMARY:Live at Arcadia
DESCRIPTION:Live at Arcadia is an after-hours comedy showcase hosted by Canton Comedy Boom and friends. Each week comedian Eric M Simons works hard to book an eclectic cast of comedic talents from all over northeast Ohio and beyond!Arcadia Grille Downtown is a long-standing establishment with a historic ambiance and a welcoming\, attentive staff. Kyle and Ashley will keep the kitchen and bar open during the show. The menu features classic Italian dishes including soup\, salads\, subs\, and pastas in addition to mouthwatering chops\, steaks\, and salmon. Arcadia offers a full-service bar with cold beers on tap and a creative cocktail menu.\nStop by for the laughs and enjoy a great meal\, reasonably priced drinks\, and a friendly staff. This intimate venue creates a warm atmosphere for our guests to enjoy a one-of-a-kind dinner and show experience right here in Canton every Wednesday night!
URL:https://ericmsimons.com/event/live-at-arcadia-3/
LOCATION:Arcadia Grille\, 321 Court Ave NW Canton OH 44702\, Canton\, OH\, 44702\, United States
CATEGORIES:Live at Arcadia
END:VEVENT
BEGIN:VEVENT
DTSTART;TZID=UTC:20240914T200000
DTEND;TZID=UTC:20240914T213000
DTSTAMP:20260422T063157
CREATED:20230628T044558Z
LAST-MODIFIED:20240902T222810Z
UID:2182-1726344000-1726349400@ericmsimons.com
SUMMARY:Snowflake Invasion: A Stand-Up Comedy Showcase!
DESCRIPTION:Join us on Saturday Sept 14 for the Snowflake Invasion! Cleveland’s Snowflake Comedy Club will be taking over the Canton Comedy Boom main stage for a comedy showcase you won’t want to miss! \nSnowflake Comedy Club\, like Canton Comedy Boom\, was created as a space that is empathetically welcoming and that strives for inclusivity. Founder\, Leah Addison\, wanted to bring light to underrepresented groups\, including people of color\, women\, and folks in the queer community. \nFrom their website: We believe in a better and stronger comedic environment that “punches up” rather than “punches down” to marginalized communities. Our comics agree to basic guidelines ahead of time to be respectful and aware of how their jokes might impact others before they step up to the microphone. \nThe show will feature stand-up comedians\, Mike Strenk\, Pope\, Precious\, Brett Thomas\, Connor Stout\, Kee Silly\, and Kadijah Wingo. This incredibly talented line-up of comics will keep you laughing all night! \nAs always\, the Patina gallery and studios will be open for viewing and we encourage you to check out our downtown Canton page for a list of bars\, restaurants\, and shops within walking distance of the show! \nPatina Arts Centre\n324 Cleveland Ave NW Canton OH 44702\nDoors at 7:30pm\nShow starts at 8pm\nTickets: $15 online / $20 at door\nDORA drinks from nearby bars are permitted
URL:https://ericmsimons.com/event/canton-first-friday-hall-of-fame-extravaganza/
LOCATION:Patina Art Center\, 324 Cleveland Ave NW\, Canton\, OH\, 44702\, United States
CATEGORIES:Standup Showcase
ATTACH;FMTTYPE=image/jpeg:https://ericmsimons.com/wp-content/uploads/2023/06/snowfflake.jpg
END:VEVENT
BEGIN:VEVENT
DTSTART;TZID=UTC:20240912T193000
DTEND;TZID=UTC:20240912T220000
DTSTAMP:20260422T063157
CREATED:20240902T224720Z
LAST-MODIFIED:20240902T224720Z
UID:2411-1726169400-1726178400@ericmsimons.com
SUMMARY:Krackpots
DESCRIPTION:
URL:https://ericmsimons.com/event/krackpots-2/
LOCATION:Krackpots\, 14 Lincoln Way W\, Massillon\, OH\, 44647\, United States
CATEGORIES:Open Mic
END:VEVENT
BEGIN:VEVENT
DTSTART;TZID=UTC:20240911T210000
DTEND;TZID=UTC:20240911T220000
DTSTAMP:20260422T063157
CREATED:20240902T224506Z
LAST-MODIFIED:20240902T224510Z
UID:2349-1726088400-1726092000@ericmsimons.com
SUMMARY:Live at Arcadia
DESCRIPTION:Live at Arcadia is an after-hours comedy showcase hosted by Canton Comedy Boom and friends. Each week comedian Eric M Simons works hard to book an eclectic cast of comedic talents from all over northeast Ohio and beyond!Arcadia Grille Downtown is a long-standing establishment with a historic ambiance and a welcoming\, attentive staff. Kyle and Ashley will keep the kitchen and bar open during the show. The menu features classic Italian dishes including soup\, salads\, subs\, and pastas in addition to mouthwatering chops\, steaks\, and salmon. Arcadia offers a full-service bar with cold beers on tap and a creative cocktail menu.\nStop by for the laughs and enjoy a great meal\, reasonably priced drinks\, and a friendly staff. This intimate venue creates a warm atmosphere for our guests to enjoy a one-of-a-kind dinner and show experience right here in Canton every Wednesday night!
URL:https://ericmsimons.com/event/live-at-arcadia-2/
LOCATION:Arcadia Grille\, 321 Court Ave NW Canton OH 44702\, Canton\, OH\, 44702\, United States
CATEGORIES:Live at Arcadia
END:VEVENT
BEGIN:VEVENT
DTSTART;TZID=UTC:20240906T200000
DTEND;TZID=UTC:20240906T220000
DTSTAMP:20260422T063157
CREATED:20240902T212941Z
LAST-MODIFIED:20240902T224917Z
UID:2333-1725652800-1725660000@ericmsimons.com
SUMMARY:Canton Free First Friday Comedy Show
DESCRIPTION:
URL:https://ericmsimons.com/event/canton-free-first-friday-comedy-show/
LOCATION:Patina Art Center\, 324 Cleveland Ave NW\, Canton\, OH\, 44702\, United States
CATEGORIES:Canton First Friday
ATTACH;FMTTYPE=image/jpeg:https://ericmsimons.com/wp-content/uploads/2023/06/first-friday.jpg
END:VEVENT
END:VCALENDAR