BEGIN:VCALENDAR
VERSION:2.0
PRODID:-//Eric M Simons - ECPv6.15.20//NONSGML v1.0//EN
CALSCALE:GREGORIAN
METHOD:PUBLISH
X-ORIGINAL-URL:https://ericmsimons.com
X-WR-CALDESC:Events for Eric M Simons
REFRESH-INTERVAL;VALUE=DURATION:PT1H
X-Robots-Tag:noindex
X-PUBLISHED-TTL:PT1H
BEGIN:VTIMEZONE
TZID:UTC
BEGIN:STANDARD
TZOFFSETFROM:+0000
TZOFFSETTO:+0000
TZNAME:UTC
DTSTART:20240101T000000
END:STANDARD
END:VTIMEZONE
BEGIN:VEVENT
DTSTART;TZID=UTC:20250409T210000
DTEND;TZID=UTC:20250409T220000
DTSTAMP:20260421T212203
CREATED:20240902T224636Z
LAST-MODIFIED:20240902T224636Z
UID:2386-1744232400-1744236000@ericmsimons.com
SUMMARY:Live at Arcadia
DESCRIPTION:Live at Arcadia is an after-hours comedy showcase hosted by Canton Comedy Boom and friends. Each week comedian Eric M Simons works hard to book an eclectic cast of comedic talents from all over northeast Ohio and beyond!Arcadia Grille Downtown is a long-standing establishment with a historic ambiance and a welcoming\, attentive staff. Kyle and Ashley will keep the kitchen and bar open during the show. The menu features classic Italian dishes including soup\, salads\, subs\, and pastas in addition to mouthwatering chops\, steaks\, and salmon. Arcadia offers a full-service bar with cold beers on tap and a creative cocktail menu.\nStop by for the laughs and enjoy a great meal\, reasonably priced drinks\, and a friendly staff. This intimate venue creates a warm atmosphere for our guests to enjoy a one-of-a-kind dinner and show experience right here in Canton every Wednesday night!
URL:https://ericmsimons.com/event/live-at-arcadia-32/
LOCATION:Arcadia Grille\, 321 Court Ave NW Canton OH 44702\, Canton\, OH\, 44702\, United States
CATEGORIES:Live at Arcadia
END:VEVENT
BEGIN:VEVENT
DTSTART;TZID=UTC:20250404T200000
DTEND;TZID=UTC:20250404T220000
DTSTAMP:20260421T212203
CREATED:20240902T224938Z
LAST-MODIFIED:20240902T224938Z
UID:2474-1743796800-1743804000@ericmsimons.com
SUMMARY:Canton Free First Friday Comedy Show
DESCRIPTION:
URL:https://ericmsimons.com/event/canton-free-first-friday-comedy-show-9/
LOCATION:OH
CATEGORIES:Canton First Friday
END:VEVENT
BEGIN:VEVENT
DTSTART;TZID=UTC:20250403T193000
DTEND;TZID=UTC:20250403T220000
DTSTAMP:20260421T212203
CREATED:20240902T224837Z
LAST-MODIFIED:20240902T224837Z
UID:2440-1743708600-1743717600@ericmsimons.com
SUMMARY:Krackpots
DESCRIPTION:
URL:https://ericmsimons.com/event/krackpots-31/
LOCATION:Krackpots\, 14 Lincoln Way W\, Massillon\, OH\, 44647\, United States
CATEGORIES:Open Mic
END:VEVENT
BEGIN:VEVENT
DTSTART;TZID=UTC:20250402T210000
DTEND;TZID=UTC:20250402T220000
DTSTAMP:20260421T212203
CREATED:20240902T224636Z
LAST-MODIFIED:20240902T224636Z
UID:2385-1743627600-1743631200@ericmsimons.com
SUMMARY:Live at Arcadia
DESCRIPTION:Live at Arcadia is an after-hours comedy showcase hosted by Canton Comedy Boom and friends. Each week comedian Eric M Simons works hard to book an eclectic cast of comedic talents from all over northeast Ohio and beyond!Arcadia Grille Downtown is a long-standing establishment with a historic ambiance and a welcoming\, attentive staff. Kyle and Ashley will keep the kitchen and bar open during the show. The menu features classic Italian dishes including soup\, salads\, subs\, and pastas in addition to mouthwatering chops\, steaks\, and salmon. Arcadia offers a full-service bar with cold beers on tap and a creative cocktail menu.\nStop by for the laughs and enjoy a great meal\, reasonably priced drinks\, and a friendly staff. This intimate venue creates a warm atmosphere for our guests to enjoy a one-of-a-kind dinner and show experience right here in Canton every Wednesday night!
URL:https://ericmsimons.com/event/live-at-arcadia-31/
LOCATION:Arcadia Grille\, 321 Court Ave NW Canton OH 44702\, Canton\, OH\, 44702\, United States
CATEGORIES:Live at Arcadia
END:VEVENT
BEGIN:VEVENT
DTSTART;TZID=UTC:20250329T200000
DTEND;TZID=UTC:20250329T220000
DTSTAMP:20260421T212203
CREATED:20240902T225340Z
LAST-MODIFIED:20240902T225340Z
UID:2485-1743278400-1743285600@ericmsimons.com
SUMMARY:Boom Boom Improv
DESCRIPTION:
URL:https://ericmsimons.com/event/boom-boom-improv-7/
LOCATION:OH
CATEGORIES:Canton First Friday
END:VEVENT
BEGIN:VEVENT
DTSTART;TZID=UTC:20250327T193000
DTEND;TZID=UTC:20250327T220000
DTSTAMP:20260421T212203
CREATED:20240902T224837Z
LAST-MODIFIED:20240902T224837Z
UID:2439-1743103800-1743112800@ericmsimons.com
SUMMARY:Krackpots
DESCRIPTION:
URL:https://ericmsimons.com/event/krackpots-30/
LOCATION:Krackpots\, 14 Lincoln Way W\, Massillon\, OH\, 44647\, United States
CATEGORIES:Open Mic
END:VEVENT
BEGIN:VEVENT
DTSTART;TZID=UTC:20250326T210000
DTEND;TZID=UTC:20250326T220000
DTSTAMP:20260421T212203
CREATED:20240902T224636Z
LAST-MODIFIED:20240902T224636Z
UID:2384-1743022800-1743026400@ericmsimons.com
SUMMARY:Live at Arcadia
DESCRIPTION:Live at Arcadia is an after-hours comedy showcase hosted by Canton Comedy Boom and friends. Each week comedian Eric M Simons works hard to book an eclectic cast of comedic talents from all over northeast Ohio and beyond!Arcadia Grille Downtown is a long-standing establishment with a historic ambiance and a welcoming\, attentive staff. Kyle and Ashley will keep the kitchen and bar open during the show. The menu features classic Italian dishes including soup\, salads\, subs\, and pastas in addition to mouthwatering chops\, steaks\, and salmon. Arcadia offers a full-service bar with cold beers on tap and a creative cocktail menu.\nStop by for the laughs and enjoy a great meal\, reasonably priced drinks\, and a friendly staff. This intimate venue creates a warm atmosphere for our guests to enjoy a one-of-a-kind dinner and show experience right here in Canton every Wednesday night!
URL:https://ericmsimons.com/event/live-at-arcadia-30/
LOCATION:Arcadia Grille\, 321 Court Ave NW Canton OH 44702\, Canton\, OH\, 44702\, United States
CATEGORIES:Live at Arcadia
END:VEVENT
BEGIN:VEVENT
DTSTART;TZID=UTC:20250320T193000
DTEND;TZID=UTC:20250320T220000
DTSTAMP:20260421T212203
CREATED:20240902T224837Z
LAST-MODIFIED:20240902T224837Z
UID:2438-1742499000-1742508000@ericmsimons.com
SUMMARY:Krackpots
DESCRIPTION:
URL:https://ericmsimons.com/event/krackpots-29/
LOCATION:Krackpots\, 14 Lincoln Way W\, Massillon\, OH\, 44647\, United States
CATEGORIES:Open Mic
END:VEVENT
BEGIN:VEVENT
DTSTART;TZID=UTC:20250319T210000
DTEND;TZID=UTC:20250319T220000
DTSTAMP:20260421T212203
CREATED:20240902T224632Z
LAST-MODIFIED:20240902T224632Z
UID:2383-1742418000-1742421600@ericmsimons.com
SUMMARY:Live at Arcadia
DESCRIPTION:Live at Arcadia is an after-hours comedy showcase hosted by Canton Comedy Boom and friends. Each week comedian Eric M Simons works hard to book an eclectic cast of comedic talents from all over northeast Ohio and beyond!Arcadia Grille Downtown is a long-standing establishment with a historic ambiance and a welcoming\, attentive staff. Kyle and Ashley will keep the kitchen and bar open during the show. The menu features classic Italian dishes including soup\, salads\, subs\, and pastas in addition to mouthwatering chops\, steaks\, and salmon. Arcadia offers a full-service bar with cold beers on tap and a creative cocktail menu.\nStop by for the laughs and enjoy a great meal\, reasonably priced drinks\, and a friendly staff. This intimate venue creates a warm atmosphere for our guests to enjoy a one-of-a-kind dinner and show experience right here in Canton every Wednesday night!
URL:https://ericmsimons.com/event/live-at-arcadia-29/
LOCATION:Arcadia Grille\, 321 Court Ave NW Canton OH 44702\, Canton\, OH\, 44702\, United States
CATEGORIES:Live at Arcadia
END:VEVENT
BEGIN:VEVENT
DTSTART;TZID=UTC:20250313T193000
DTEND;TZID=UTC:20250313T220000
DTSTAMP:20260421T212203
CREATED:20240902T224825Z
LAST-MODIFIED:20240902T224825Z
UID:2437-1741894200-1741903200@ericmsimons.com
SUMMARY:Krackpots
DESCRIPTION:
URL:https://ericmsimons.com/event/krackpots-28/
LOCATION:Krackpots\, 14 Lincoln Way W\, Massillon\, OH\, 44647\, United States
CATEGORIES:Open Mic
END:VEVENT
BEGIN:VEVENT
DTSTART;TZID=UTC:20250312T210000
DTEND;TZID=UTC:20250312T220000
DTSTAMP:20260421T212203
CREATED:20240902T224632Z
LAST-MODIFIED:20240902T224632Z
UID:2382-1741813200-1741816800@ericmsimons.com
SUMMARY:Live at Arcadia
DESCRIPTION:Live at Arcadia is an after-hours comedy showcase hosted by Canton Comedy Boom and friends. Each week comedian Eric M Simons works hard to book an eclectic cast of comedic talents from all over northeast Ohio and beyond!Arcadia Grille Downtown is a long-standing establishment with a historic ambiance and a welcoming\, attentive staff. Kyle and Ashley will keep the kitchen and bar open during the show. The menu features classic Italian dishes including soup\, salads\, subs\, and pastas in addition to mouthwatering chops\, steaks\, and salmon. Arcadia offers a full-service bar with cold beers on tap and a creative cocktail menu.\nStop by for the laughs and enjoy a great meal\, reasonably priced drinks\, and a friendly staff. This intimate venue creates a warm atmosphere for our guests to enjoy a one-of-a-kind dinner and show experience right here in Canton every Wednesday night!
URL:https://ericmsimons.com/event/live-at-arcadia-28/
LOCATION:Arcadia Grille\, 321 Court Ave NW Canton OH 44702\, Canton\, OH\, 44702\, United States
CATEGORIES:Live at Arcadia
END:VEVENT
BEGIN:VEVENT
DTSTART;TZID=UTC:20250307T200000
DTEND;TZID=UTC:20250307T220000
DTSTAMP:20260421T212203
CREATED:20240902T224922Z
LAST-MODIFIED:20240902T224922Z
UID:2473-1741377600-1741384800@ericmsimons.com
SUMMARY:Canton Free First Friday Comedy Show
DESCRIPTION:
URL:https://ericmsimons.com/event/canton-free-first-friday-comedy-show-8/
LOCATION:OH
CATEGORIES:Canton First Friday
END:VEVENT
BEGIN:VEVENT
DTSTART;TZID=UTC:20250306T193000
DTEND;TZID=UTC:20250306T220000
DTSTAMP:20260421T212203
CREATED:20240902T224825Z
LAST-MODIFIED:20240902T224825Z
UID:2436-1741289400-1741298400@ericmsimons.com
SUMMARY:Krackpots
DESCRIPTION:
URL:https://ericmsimons.com/event/krackpots-27/
LOCATION:Krackpots\, 14 Lincoln Way W\, Massillon\, OH\, 44647\, United States
CATEGORIES:Open Mic
END:VEVENT
BEGIN:VEVENT
DTSTART;TZID=UTC:20250305T210000
DTEND;TZID=UTC:20250305T220000
DTSTAMP:20260421T212203
CREATED:20240902T224632Z
LAST-MODIFIED:20240902T224632Z
UID:2381-1741208400-1741212000@ericmsimons.com
SUMMARY:Live at Arcadia
DESCRIPTION:Live at Arcadia is an after-hours comedy showcase hosted by Canton Comedy Boom and friends. Each week comedian Eric M Simons works hard to book an eclectic cast of comedic talents from all over northeast Ohio and beyond!Arcadia Grille Downtown is a long-standing establishment with a historic ambiance and a welcoming\, attentive staff. Kyle and Ashley will keep the kitchen and bar open during the show. The menu features classic Italian dishes including soup\, salads\, subs\, and pastas in addition to mouthwatering chops\, steaks\, and salmon. Arcadia offers a full-service bar with cold beers on tap and a creative cocktail menu.\nStop by for the laughs and enjoy a great meal\, reasonably priced drinks\, and a friendly staff. This intimate venue creates a warm atmosphere for our guests to enjoy a one-of-a-kind dinner and show experience right here in Canton every Wednesday night!
URL:https://ericmsimons.com/event/live-at-arcadia-27/
LOCATION:Arcadia Grille\, 321 Court Ave NW Canton OH 44702\, Canton\, OH\, 44702\, United States
CATEGORIES:Live at Arcadia
END:VEVENT
BEGIN:VEVENT
DTSTART;TZID=UTC:20250227T193000
DTEND;TZID=UTC:20250227T220000
DTSTAMP:20260421T212203
CREATED:20240902T224825Z
LAST-MODIFIED:20240902T224825Z
UID:2435-1740684600-1740693600@ericmsimons.com
SUMMARY:Krackpots
DESCRIPTION:
URL:https://ericmsimons.com/event/krackpots-26/
LOCATION:Krackpots\, 14 Lincoln Way W\, Massillon\, OH\, 44647\, United States
CATEGORIES:Open Mic
END:VEVENT
BEGIN:VEVENT
DTSTART;TZID=UTC:20250226T210000
DTEND;TZID=UTC:20250226T220000
DTSTAMP:20260421T212203
CREATED:20240902T224632Z
LAST-MODIFIED:20240902T224632Z
UID:2380-1740603600-1740607200@ericmsimons.com
SUMMARY:Live at Arcadia
DESCRIPTION:Live at Arcadia is an after-hours comedy showcase hosted by Canton Comedy Boom and friends. Each week comedian Eric M Simons works hard to book an eclectic cast of comedic talents from all over northeast Ohio and beyond!Arcadia Grille Downtown is a long-standing establishment with a historic ambiance and a welcoming\, attentive staff. Kyle and Ashley will keep the kitchen and bar open during the show. The menu features classic Italian dishes including soup\, salads\, subs\, and pastas in addition to mouthwatering chops\, steaks\, and salmon. Arcadia offers a full-service bar with cold beers on tap and a creative cocktail menu.\nStop by for the laughs and enjoy a great meal\, reasonably priced drinks\, and a friendly staff. This intimate venue creates a warm atmosphere for our guests to enjoy a one-of-a-kind dinner and show experience right here in Canton every Wednesday night!
URL:https://ericmsimons.com/event/live-at-arcadia-26/
LOCATION:Arcadia Grille\, 321 Court Ave NW Canton OH 44702\, Canton\, OH\, 44702\, United States
CATEGORIES:Live at Arcadia
END:VEVENT
BEGIN:VEVENT
DTSTART;TZID=UTC:20250222T200000
DTEND;TZID=UTC:20250222T220000
DTSTAMP:20260421T212203
CREATED:20240902T225340Z
LAST-MODIFIED:20240902T225340Z
UID:2484-1740254400-1740261600@ericmsimons.com
SUMMARY:Boom Boom Improv
DESCRIPTION:
URL:https://ericmsimons.com/event/boom-boom-improv-6/
LOCATION:OH
CATEGORIES:Canton First Friday
END:VEVENT
BEGIN:VEVENT
DTSTART;TZID=UTC:20250220T193000
DTEND;TZID=UTC:20250220T220000
DTSTAMP:20260421T212203
CREATED:20240902T224825Z
LAST-MODIFIED:20240902T224825Z
UID:2434-1740079800-1740088800@ericmsimons.com
SUMMARY:Krackpots
DESCRIPTION:
URL:https://ericmsimons.com/event/krackpots-25/
LOCATION:Krackpots\, 14 Lincoln Way W\, Massillon\, OH\, 44647\, United States
CATEGORIES:Open Mic
END:VEVENT
BEGIN:VEVENT
DTSTART;TZID=UTC:20250219T210000
DTEND;TZID=UTC:20250219T220000
DTSTAMP:20260421T212203
CREATED:20240902T224631Z
LAST-MODIFIED:20240902T224631Z
UID:2379-1739998800-1740002400@ericmsimons.com
SUMMARY:Live at Arcadia
DESCRIPTION:Live at Arcadia is an after-hours comedy showcase hosted by Canton Comedy Boom and friends. Each week comedian Eric M Simons works hard to book an eclectic cast of comedic talents from all over northeast Ohio and beyond!Arcadia Grille Downtown is a long-standing establishment with a historic ambiance and a welcoming\, attentive staff. Kyle and Ashley will keep the kitchen and bar open during the show. The menu features classic Italian dishes including soup\, salads\, subs\, and pastas in addition to mouthwatering chops\, steaks\, and salmon. Arcadia offers a full-service bar with cold beers on tap and a creative cocktail menu.\nStop by for the laughs and enjoy a great meal\, reasonably priced drinks\, and a friendly staff. This intimate venue creates a warm atmosphere for our guests to enjoy a one-of-a-kind dinner and show experience right here in Canton every Wednesday night!
URL:https://ericmsimons.com/event/live-at-arcadia-25/
LOCATION:Arcadia Grille\, 321 Court Ave NW Canton OH 44702\, Canton\, OH\, 44702\, United States
CATEGORIES:Live at Arcadia
END:VEVENT
BEGIN:VEVENT
DTSTART;TZID=UTC:20250213T193000
DTEND;TZID=UTC:20250213T220000
DTSTAMP:20260421T212203
CREATED:20240902T224825Z
LAST-MODIFIED:20240902T224825Z
UID:2433-1739475000-1739484000@ericmsimons.com
SUMMARY:Krackpots
DESCRIPTION:
URL:https://ericmsimons.com/event/krackpots-24/
LOCATION:Krackpots\, 14 Lincoln Way W\, Massillon\, OH\, 44647\, United States
CATEGORIES:Open Mic
END:VEVENT
BEGIN:VEVENT
DTSTART;TZID=UTC:20250212T210000
DTEND;TZID=UTC:20250212T220000
DTSTAMP:20260421T212203
CREATED:20240902T224553Z
LAST-MODIFIED:20240902T224553Z
UID:2377-1739394000-1739397600@ericmsimons.com
SUMMARY:Live at Arcadia
DESCRIPTION:Live at Arcadia is an after-hours comedy showcase hosted by Canton Comedy Boom and friends. Each week comedian Eric M Simons works hard to book an eclectic cast of comedic talents from all over northeast Ohio and beyond!Arcadia Grille Downtown is a long-standing establishment with a historic ambiance and a welcoming\, attentive staff. Kyle and Ashley will keep the kitchen and bar open during the show. The menu features classic Italian dishes including soup\, salads\, subs\, and pastas in addition to mouthwatering chops\, steaks\, and salmon. Arcadia offers a full-service bar with cold beers on tap and a creative cocktail menu.\nStop by for the laughs and enjoy a great meal\, reasonably priced drinks\, and a friendly staff. This intimate venue creates a warm atmosphere for our guests to enjoy a one-of-a-kind dinner and show experience right here in Canton every Wednesday night!
URL:https://ericmsimons.com/event/live-at-arcadia-24/
LOCATION:Arcadia Grille\, 321 Court Ave NW Canton OH 44702\, Canton\, OH\, 44702\, United States
CATEGORIES:Live at Arcadia
END:VEVENT
BEGIN:VEVENT
DTSTART;TZID=UTC:20250207T200000
DTEND;TZID=UTC:20250207T220000
DTSTAMP:20260421T212203
CREATED:20240902T224922Z
LAST-MODIFIED:20240902T224922Z
UID:2472-1738958400-1738965600@ericmsimons.com
SUMMARY:Canton Free First Friday Comedy Show
DESCRIPTION:
URL:https://ericmsimons.com/event/canton-free-first-friday-comedy-show-7/
LOCATION:OH
CATEGORIES:Canton First Friday
END:VEVENT
BEGIN:VEVENT
DTSTART;TZID=UTC:20250206T193000
DTEND;TZID=UTC:20250206T220000
DTSTAMP:20260421T212203
CREATED:20240902T224821Z
LAST-MODIFIED:20240902T224821Z
UID:2432-1738870200-1738879200@ericmsimons.com
SUMMARY:Krackpots
DESCRIPTION:
URL:https://ericmsimons.com/event/krackpots-23/
LOCATION:Krackpots\, 14 Lincoln Way W\, Massillon\, OH\, 44647\, United States
CATEGORIES:Open Mic
END:VEVENT
BEGIN:VEVENT
DTSTART;TZID=UTC:20250205T210000
DTEND;TZID=UTC:20250205T220000
DTSTAMP:20260421T212203
CREATED:20240902T224553Z
LAST-MODIFIED:20240902T224553Z
UID:2376-1738789200-1738792800@ericmsimons.com
SUMMARY:Live at Arcadia
DESCRIPTION:Live at Arcadia is an after-hours comedy showcase hosted by Canton Comedy Boom and friends. Each week comedian Eric M Simons works hard to book an eclectic cast of comedic talents from all over northeast Ohio and beyond!Arcadia Grille Downtown is a long-standing establishment with a historic ambiance and a welcoming\, attentive staff. Kyle and Ashley will keep the kitchen and bar open during the show. The menu features classic Italian dishes including soup\, salads\, subs\, and pastas in addition to mouthwatering chops\, steaks\, and salmon. Arcadia offers a full-service bar with cold beers on tap and a creative cocktail menu.\nStop by for the laughs and enjoy a great meal\, reasonably priced drinks\, and a friendly staff. This intimate venue creates a warm atmosphere for our guests to enjoy a one-of-a-kind dinner and show experience right here in Canton every Wednesday night!
URL:https://ericmsimons.com/event/live-at-arcadia-23/
LOCATION:Arcadia Grille\, 321 Court Ave NW Canton OH 44702\, Canton\, OH\, 44702\, United States
CATEGORIES:Live at Arcadia
END:VEVENT
BEGIN:VEVENT
DTSTART;TZID=UTC:20250130T193000
DTEND;TZID=UTC:20250130T220000
DTSTAMP:20260421T212203
CREATED:20240902T224821Z
LAST-MODIFIED:20240902T224821Z
UID:2431-1738265400-1738274400@ericmsimons.com
SUMMARY:Krackpots
DESCRIPTION:
URL:https://ericmsimons.com/event/krackpots-22/
LOCATION:Krackpots\, 14 Lincoln Way W\, Massillon\, OH\, 44647\, United States
CATEGORIES:Open Mic
END:VEVENT
BEGIN:VEVENT
DTSTART;TZID=UTC:20250129T210000
DTEND;TZID=UTC:20250129T220000
DTSTAMP:20260421T212203
CREATED:20240902T224553Z
LAST-MODIFIED:20240902T224553Z
UID:2375-1738184400-1738188000@ericmsimons.com
SUMMARY:Live at Arcadia
DESCRIPTION:Live at Arcadia is an after-hours comedy showcase hosted by Canton Comedy Boom and friends. Each week comedian Eric M Simons works hard to book an eclectic cast of comedic talents from all over northeast Ohio and beyond!Arcadia Grille Downtown is a long-standing establishment with a historic ambiance and a welcoming\, attentive staff. Kyle and Ashley will keep the kitchen and bar open during the show. The menu features classic Italian dishes including soup\, salads\, subs\, and pastas in addition to mouthwatering chops\, steaks\, and salmon. Arcadia offers a full-service bar with cold beers on tap and a creative cocktail menu.\nStop by for the laughs and enjoy a great meal\, reasonably priced drinks\, and a friendly staff. This intimate venue creates a warm atmosphere for our guests to enjoy a one-of-a-kind dinner and show experience right here in Canton every Wednesday night!
URL:https://ericmsimons.com/event/live-at-arcadia-22/
LOCATION:Arcadia Grille\, 321 Court Ave NW Canton OH 44702\, Canton\, OH\, 44702\, United States
CATEGORIES:Live at Arcadia
END:VEVENT
BEGIN:VEVENT
DTSTART;TZID=UTC:20250125T200000
DTEND;TZID=UTC:20250125T220000
DTSTAMP:20260421T212203
CREATED:20240902T225139Z
LAST-MODIFIED:20240902T225139Z
UID:2483-1737835200-1737842400@ericmsimons.com
SUMMARY:Boom Boom Improv
DESCRIPTION:
URL:https://ericmsimons.com/event/boom-boom-improv-5/
LOCATION:OH
CATEGORIES:Canton First Friday
END:VEVENT
BEGIN:VEVENT
DTSTART;TZID=UTC:20250123T193000
DTEND;TZID=UTC:20250123T220000
DTSTAMP:20260421T212203
CREATED:20240902T224821Z
LAST-MODIFIED:20240902T224821Z
UID:2430-1737660600-1737669600@ericmsimons.com
SUMMARY:Krackpots
DESCRIPTION:
URL:https://ericmsimons.com/event/krackpots-21/
LOCATION:Krackpots\, 14 Lincoln Way W\, Massillon\, OH\, 44647\, United States
CATEGORIES:Open Mic
END:VEVENT
BEGIN:VEVENT
DTSTART;TZID=UTC:20250122T210000
DTEND;TZID=UTC:20250122T220000
DTSTAMP:20260421T212203
CREATED:20240902T224553Z
LAST-MODIFIED:20240902T224553Z
UID:2374-1737579600-1737583200@ericmsimons.com
SUMMARY:Live at Arcadia
DESCRIPTION:Live at Arcadia is an after-hours comedy showcase hosted by Canton Comedy Boom and friends. Each week comedian Eric M Simons works hard to book an eclectic cast of comedic talents from all over northeast Ohio and beyond!Arcadia Grille Downtown is a long-standing establishment with a historic ambiance and a welcoming\, attentive staff. Kyle and Ashley will keep the kitchen and bar open during the show. The menu features classic Italian dishes including soup\, salads\, subs\, and pastas in addition to mouthwatering chops\, steaks\, and salmon. Arcadia offers a full-service bar with cold beers on tap and a creative cocktail menu.\nStop by for the laughs and enjoy a great meal\, reasonably priced drinks\, and a friendly staff. This intimate venue creates a warm atmosphere for our guests to enjoy a one-of-a-kind dinner and show experience right here in Canton every Wednesday night!
URL:https://ericmsimons.com/event/live-at-arcadia-21/
LOCATION:Arcadia Grille\, 321 Court Ave NW Canton OH 44702\, Canton\, OH\, 44702\, United States
CATEGORIES:Live at Arcadia
END:VEVENT
BEGIN:VEVENT
DTSTART;TZID=UTC:20250116T193000
DTEND;TZID=UTC:20250116T220000
DTSTAMP:20260421T212203
CREATED:20240902T224821Z
LAST-MODIFIED:20240902T224821Z
UID:2429-1737055800-1737064800@ericmsimons.com
SUMMARY:Krackpots
DESCRIPTION:
URL:https://ericmsimons.com/event/krackpots-20/
LOCATION:Krackpots\, 14 Lincoln Way W\, Massillon\, OH\, 44647\, United States
CATEGORIES:Open Mic
END:VEVENT
END:VCALENDAR